BEGIN:VCALENDAR
VERSION:2.0
PRODID:-//Town of Windsor Locks, Connecticut - ECPv6.15.17.1//NONSGML v1.0//EN
CALSCALE:GREGORIAN
METHOD:PUBLISH
X-WR-CALNAME:Town of Windsor Locks, Connecticut
X-ORIGINAL-URL:https://windsorlocksct.org
X-WR-CALDESC:Events for Town of Windsor Locks, Connecticut
REFRESH-INTERVAL;VALUE=DURATION:PT1H
X-Robots-Tag:noindex
X-PUBLISHED-TTL:PT1H
BEGIN:VTIMEZONE
TZID:America/New_York
BEGIN:DAYLIGHT
TZOFFSETFROM:-0500
TZOFFSETTO:-0400
TZNAME:EDT
DTSTART:20210314T070000
END:DAYLIGHT
BEGIN:STANDARD
TZOFFSETFROM:-0400
TZOFFSETTO:-0500
TZNAME:EST
DTSTART:20211107T060000
END:STANDARD
BEGIN:DAYLIGHT
TZOFFSETFROM:-0500
TZOFFSETTO:-0400
TZNAME:EDT
DTSTART:20220313T070000
END:DAYLIGHT
BEGIN:STANDARD
TZOFFSETFROM:-0400
TZOFFSETTO:-0500
TZNAME:EST
DTSTART:20221106T060000
END:STANDARD
BEGIN:DAYLIGHT
TZOFFSETFROM:-0500
TZOFFSETTO:-0400
TZNAME:EDT
DTSTART:20230312T070000
END:DAYLIGHT
BEGIN:STANDARD
TZOFFSETFROM:-0400
TZOFFSETTO:-0500
TZNAME:EST
DTSTART:20231105T060000
END:STANDARD
END:VTIMEZONE
BEGIN:VEVENT
DTSTART;VALUE=DATE:20221124
DTEND;VALUE=DATE:20221125
DTSTAMP:20260419T161041
CREATED:20220524T020522Z
LAST-MODIFIED:20220524T020522Z
UID:20172-1669248000-1669334399@windsorlocksct.org
SUMMARY:Refuse and recycling will be delayed on Thursday and Friday this week due to the Thanksgiving holiday on Thursday
DESCRIPTION:
URL:https://windsorlocksct.org/event/refuse-and-recycling-will-be-delayed-on-thursday-and-friday-this-week-due-to-the-thanksgiving-holiday-on-thursday/
CATEGORIES:Garbage & Recycling
END:VEVENT
END:VCALENDAR