BEGIN:VCALENDAR
VERSION:2.0
PRODID:-//Town of Windsor Locks, Connecticut - ECPv6.15.17.1//NONSGML v1.0//EN
CALSCALE:GREGORIAN
METHOD:PUBLISH
X-WR-CALNAME:Town of Windsor Locks, Connecticut
X-ORIGINAL-URL:https://windsorlocksct.org
X-WR-CALDESC:Events for Town of Windsor Locks, Connecticut
REFRESH-INTERVAL;VALUE=DURATION:PT1H
X-Robots-Tag:noindex
X-PUBLISHED-TTL:PT1H
BEGIN:VTIMEZONE
TZID:America/New_York
BEGIN:DAYLIGHT
TZOFFSETFROM:-0500
TZOFFSETTO:-0400
TZNAME:EDT
DTSTART:20220313T070000
END:DAYLIGHT
BEGIN:STANDARD
TZOFFSETFROM:-0400
TZOFFSETTO:-0500
TZNAME:EST
DTSTART:20221106T060000
END:STANDARD
BEGIN:DAYLIGHT
TZOFFSETFROM:-0500
TZOFFSETTO:-0400
TZNAME:EDT
DTSTART:20230312T070000
END:DAYLIGHT
BEGIN:STANDARD
TZOFFSETFROM:-0400
TZOFFSETTO:-0500
TZNAME:EST
DTSTART:20231105T060000
END:STANDARD
BEGIN:DAYLIGHT
TZOFFSETFROM:-0500
TZOFFSETTO:-0400
TZNAME:EDT
DTSTART:20240310T070000
END:DAYLIGHT
BEGIN:STANDARD
TZOFFSETFROM:-0400
TZOFFSETTO:-0500
TZNAME:EST
DTSTART:20241103T060000
END:STANDARD
END:VTIMEZONE
BEGIN:VEVENT
DTSTART;TZID=America/New_York:20231028T080000
DTEND;TZID=America/New_York:20231028T110000
DTSTAMP:20260421T041421
CREATED:20230925T212451Z
LAST-MODIFIED:20230925T212451Z
UID:24119-1698480000-1698490800@windsorlocksct.org
SUMMARY:Community Service Opportunity
DESCRIPTION:
URL:https://windsorlocksct.org/event/community-service-opportunity/
CATEGORIES:Events
ATTACH;FMTTYPE=image/png:https://cdn.townweb.com/windsorlocksct.org/wp-content/uploads/2023/09/Community-Service-Oppurtunity-10.28.23-3.png
END:VEVENT
END:VCALENDAR