BEGIN:VCALENDAR
VERSION:2.0
PRODID:-//Town of Windsor Locks, Connecticut - ECPv6.15.17.1//NONSGML v1.0//EN
CALSCALE:GREGORIAN
METHOD:PUBLISH
X-WR-CALNAME:Town of Windsor Locks, Connecticut
X-ORIGINAL-URL:https://windsorlocksct.org
X-WR-CALDESC:Events for Town of Windsor Locks, Connecticut
REFRESH-INTERVAL;VALUE=DURATION:PT1H
X-Robots-Tag:noindex
X-PUBLISHED-TTL:PT1H
BEGIN:VTIMEZONE
TZID:America/New_York
BEGIN:DAYLIGHT
TZOFFSETFROM:-0500
TZOFFSETTO:-0400
TZNAME:EDT
DTSTART:20200308T070000
END:DAYLIGHT
BEGIN:STANDARD
TZOFFSETFROM:-0400
TZOFFSETTO:-0500
TZNAME:EST
DTSTART:20201101T060000
END:STANDARD
BEGIN:DAYLIGHT
TZOFFSETFROM:-0500
TZOFFSETTO:-0400
TZNAME:EDT
DTSTART:20210314T070000
END:DAYLIGHT
BEGIN:STANDARD
TZOFFSETFROM:-0400
TZOFFSETTO:-0500
TZNAME:EST
DTSTART:20211107T060000
END:STANDARD
BEGIN:DAYLIGHT
TZOFFSETFROM:-0500
TZOFFSETTO:-0400
TZNAME:EDT
DTSTART:20220313T070000
END:DAYLIGHT
BEGIN:STANDARD
TZOFFSETFROM:-0400
TZOFFSETTO:-0500
TZNAME:EST
DTSTART:20221106T060000
END:STANDARD
END:VTIMEZONE
BEGIN:VEVENT
DTSTART;TZID=America/New_York:20210323T183000
DTEND;TZID=America/New_York:20210323T183000
DTSTAMP:20260424T013115
CREATED:20210321T042716Z
LAST-MODIFIED:20210321T042716Z
UID:16206-1616524200-1616524200@windsorlocksct.org
SUMMARY:Board of Finance
DESCRIPTION:The Board of Finance is inviting you to a scheduled Zoom meeting. \nTopic: the Board of Finance\nTime: Mar 23\, 2021 06:30 PM Eastern Time (US and Canada) \nJoin Zoom Meeting\nhttps://us02web.zoom.us/j/89960028107?pwd=YWJmMWZCZEQvUU5Ua1JGen\nVBbGRDUT09 \nMeeting ID: 899 6002 8107\nPasscode: 027993\nOne tap mobile\n+13126266799\,\,89960028107# US (Chicago)\n+16465588656\,\,89960028107# US (New York) \nDial by your location\n+1 312 626 6799 US (Chicago)\n+1 646 558 8656 US (New York)\n+1 301 715 8592 US (Washington DC)\n+1 346 248 7799 US (Houston)\n+1 669 900 9128 US (San Jose)\n+1 253 215 8782 US (Tacoma)\nMeeting ID: 899 6002 8107
URL:https://windsorlocksct.org/event/board-of-finance-9/
CATEGORIES:Board of Finance
END:VEVENT
END:VCALENDAR