BEGIN:VCALENDAR
VERSION:2.0
PRODID:-//Town of Windsor Locks, Connecticut - ECPv6.15.17.1//NONSGML v1.0//EN
CALSCALE:GREGORIAN
METHOD:PUBLISH
X-WR-CALNAME:Town of Windsor Locks, Connecticut
X-ORIGINAL-URL:https://windsorlocksct.org
X-WR-CALDESC:Events for Town of Windsor Locks, Connecticut
REFRESH-INTERVAL;VALUE=DURATION:PT1H
X-Robots-Tag:noindex
X-PUBLISHED-TTL:PT1H
BEGIN:VTIMEZONE
TZID:America/New_York
BEGIN:DAYLIGHT
TZOFFSETFROM:-0500
TZOFFSETTO:-0400
TZNAME:EDT
DTSTART:20250309T070000
END:DAYLIGHT
BEGIN:STANDARD
TZOFFSETFROM:-0400
TZOFFSETTO:-0500
TZNAME:EST
DTSTART:20251102T060000
END:STANDARD
BEGIN:DAYLIGHT
TZOFFSETFROM:-0500
TZOFFSETTO:-0400
TZNAME:EDT
DTSTART:20260308T070000
END:DAYLIGHT
BEGIN:STANDARD
TZOFFSETFROM:-0400
TZOFFSETTO:-0500
TZNAME:EST
DTSTART:20261101T060000
END:STANDARD
BEGIN:DAYLIGHT
TZOFFSETFROM:-0500
TZOFFSETTO:-0400
TZNAME:EDT
DTSTART:20270314T070000
END:DAYLIGHT
BEGIN:STANDARD
TZOFFSETFROM:-0400
TZOFFSETTO:-0500
TZNAME:EST
DTSTART:20271107T060000
END:STANDARD
END:VTIMEZONE
BEGIN:VEVENT
DTSTART;TZID=America/New_York:20260302T190000
DTEND;TZID=America/New_York:20260302T190000
DTSTAMP:20260424T223659
CREATED:20251126T163515Z
LAST-MODIFIED:20251126T163515Z
UID:10001568-1772478000-1772478000@windsorlocksct.org
SUMMARY:Zoning Board of Appeals – Regular Meeting
DESCRIPTION:
URL:https://windsorlocksct.org/event/zoning-board-of-appeals-regular-meeting-9/2026-03-02/
CATEGORIES:Zoning Board of Appeals
END:VEVENT
BEGIN:VEVENT
DTSTART;TZID=America/New_York:20260303T180000
DTEND;TZID=America/New_York:20260303T180000
DTSTAMP:20260424T223659
CREATED:20260302T202746Z
LAST-MODIFIED:20260302T202746Z
UID:10001625-1772560800-1772560800@windsorlocksct.org
SUMMARY:Board of Selectmen
DESCRIPTION:
URL:https://windsorlocksct.org/event/board-of-selectmen-72/
END:VEVENT
BEGIN:VEVENT
DTSTART;TZID=America/New_York:20260304T190000
DTEND;TZID=America/New_York:20260304T190000
DTSTAMP:20260424T223659
CREATED:20260303T221004Z
LAST-MODIFIED:20260303T221004Z
UID:10001627-1772650800-1772650800@windsorlocksct.org
SUMMARY:Inland Wetlands and Watercourses Commission Meeting - Cancelled
DESCRIPTION:
URL:https://windsorlocksct.org/event/inland-wetlands-and-watercourses-commission-meeting-cancelled-2/
CATEGORIES:IWWC
END:VEVENT
BEGIN:VEVENT
DTSTART;TZID=America/New_York:20260305T183000
DTEND;TZID=America/New_York:20260305T183000
DTSTAMP:20260424T223659
CREATED:20260224T232221Z
LAST-MODIFIED:20260224T232221Z
UID:10001623-1772735400-1772735400@windsorlocksct.org
SUMMARY:Rescheduled Economic and Industrial Development Commission
DESCRIPTION:
URL:https://windsorlocksct.org/event/rescheduled-economic-and-industrial-development-commission/
CATEGORIES:EIDC
END:VEVENT
BEGIN:VEVENT
DTSTART;TZID=America/New_York:20260309T180000
DTEND;TZID=America/New_York:20260309T180000
DTSTAMP:20260424T223659
CREATED:20260305T212048Z
LAST-MODIFIED:20260305T212048Z
UID:10001628-1773079200-1773079200@windsorlocksct.org
SUMMARY:Planning & Zoning Commission Meeting - Cancelled
DESCRIPTION:
URL:https://windsorlocksct.org/event/planning-zoning-commission-meeting-cancelled-2/2026-03-09/
CATEGORIES:Planning & Zoning Commission
END:VEVENT
BEGIN:VEVENT
DTSTART;TZID=America/New_York:20260311T190000
DTEND;TZID=America/New_York:20260311T190000
DTSTAMP:20260424T223659
CREATED:20260218T121045Z
LAST-MODIFIED:20260218T121045Z
UID:10001619-1773255600-1773255600@windsorlocksct.org
SUMMARY:Fire Commission Meeting
DESCRIPTION:
URL:https://windsorlocksct.org/event/fire-commission-meeting-31/
END:VEVENT
BEGIN:VEVENT
DTSTART;TZID=America/New_York:20260311T190000
DTEND;TZID=America/New_York:20260311T190000
DTSTAMP:20260424T223659
CREATED:20260303T220710Z
LAST-MODIFIED:20260303T220803Z
UID:10001626-1773255600-1773255600@windsorlocksct.org
SUMMARY:Inland Wetlands and Watercourses Commission Meeting
DESCRIPTION:
URL:https://windsorlocksct.org/event/iwwc-meeting/
CATEGORIES:IWWC
END:VEVENT
BEGIN:VEVENT
DTSTART;TZID=America/New_York:20260311T190000
DTEND;TZID=America/New_York:20260311T190000
DTSTAMP:20260424T223659
CREATED:20260311T204731Z
LAST-MODIFIED:20260311T204731Z
UID:10001636-1773255600-1773255600@windsorlocksct.org
SUMMARY:IWWC Meeting - Cancelled
DESCRIPTION:Cancelled
URL:https://windsorlocksct.org/event/iwwc-meeting-cancelled-3/
END:VEVENT
BEGIN:VEVENT
DTSTART;TZID=America/New_York:20260312T180000
DTEND;TZID=America/New_York:20260312T180000
DTSTAMP:20260424T223659
CREATED:20251009T235340Z
LAST-MODIFIED:20251009T235340Z
UID:10001503-1773338400-1773338400@windsorlocksct.org
SUMMARY:Windsor Locks Arts – Regular Meeting
DESCRIPTION:WLAC Calendar of Meetings
URL:https://windsorlocksct.org/event/windsor-locks-arts-regular-meeting-2/2026-03-12/
CATEGORIES:Windsor Locks Arts
END:VEVENT
BEGIN:VEVENT
DTSTART;TZID=America/New_York:20260312T193000
DTEND;TZID=America/New_York:20260312T193000
DTSTAMP:20260424T223659
CREATED:20260311T170743Z
LAST-MODIFIED:20260311T170743Z
UID:10001635-1773343800-1773343800@windsorlocksct.org
SUMMARY:Town Meeting
DESCRIPTION:
URL:https://windsorlocksct.org/event/town-meeting-22/
END:VEVENT
BEGIN:VEVENT
DTSTART;TZID=America/New_York:20260317T170000
DTEND;TZID=America/New_York:20260317T180000
DTSTAMP:20260424T223659
CREATED:20260313T135844Z
LAST-MODIFIED:20260313T135844Z
UID:10001639-1773766800-1773770400@windsorlocksct.org
SUMMARY:Board of Selectmen Special Meeting
DESCRIPTION:Budget Workshop
URL:https://windsorlocksct.org/event/board-of-selectmen-special-meeting-21/
END:VEVENT
BEGIN:VEVENT
DTSTART;TZID=America/New_York:20260317T180000
DTEND;TZID=America/New_York:20260317T180000
DTSTAMP:20260424T223659
CREATED:20260313T135702Z
LAST-MODIFIED:20260313T135702Z
UID:10001638-1773770400-1773770400@windsorlocksct.org
SUMMARY:Board of Selectmen Meeting
DESCRIPTION:
URL:https://windsorlocksct.org/event/board-of-selectmen-meeting-21/
END:VEVENT
BEGIN:VEVENT
DTSTART;TZID=America/New_York:20260319T160000
DTEND;TZID=America/New_York:20260319T160000
DTSTAMP:20260424T223659
CREATED:20251126T162040Z
LAST-MODIFIED:20251126T162040Z
UID:10001557-1773936000-1773936000@windsorlocksct.org
SUMMARY:Zoning Board of Appeals Cut Off
DESCRIPTION:
URL:https://windsorlocksct.org/event/zoning-board-of-appeals-cut-off-4/
CATEGORIES:Zoning Board of Appeals
END:VEVENT
BEGIN:VEVENT
DTSTART;TZID=America/New_York:20260324T193000
DTEND;TZID=America/New_York:20260324T193000
DTSTAMP:20260424T223659
CREATED:20260319T144328Z
LAST-MODIFIED:20260319T144328Z
UID:10001640-1774380600-1774380600@windsorlocksct.org
SUMMARY:Town Meeting
DESCRIPTION:
URL:https://windsorlocksct.org/event/town-meeting-23/
END:VEVENT
BEGIN:VEVENT
DTSTART;TZID=America/New_York:20260326T183000
DTEND;TZID=America/New_York:20260326T183000
DTSTAMP:20260424T223659
CREATED:20260325T170854Z
LAST-MODIFIED:20260325T170854Z
UID:10001642-1774549800-1774549800@windsorlocksct.org
SUMMARY:Economic and Industrial Development Commission
DESCRIPTION:
URL:https://windsorlocksct.org/event/economic-and-industrial-development-commission-13/
END:VEVENT
END:VCALENDAR