BEGIN:VCALENDAR
VERSION:2.0
PRODID:-//Town of Windsor Locks, Connecticut - ECPv6.15.17.1//NONSGML v1.0//EN
CALSCALE:GREGORIAN
METHOD:PUBLISH
X-WR-CALNAME:Town of Windsor Locks, Connecticut
X-ORIGINAL-URL:https://windsorlocksct.org
X-WR-CALDESC:Events for Town of Windsor Locks, Connecticut
REFRESH-INTERVAL;VALUE=DURATION:PT1H
X-Robots-Tag:noindex
X-PUBLISHED-TTL:PT1H
BEGIN:VTIMEZONE
TZID:America/New_York
BEGIN:DAYLIGHT
TZOFFSETFROM:-0500
TZOFFSETTO:-0400
TZNAME:EDT
DTSTART:20230312T070000
END:DAYLIGHT
BEGIN:STANDARD
TZOFFSETFROM:-0400
TZOFFSETTO:-0500
TZNAME:EST
DTSTART:20231105T060000
END:STANDARD
BEGIN:DAYLIGHT
TZOFFSETFROM:-0500
TZOFFSETTO:-0400
TZNAME:EDT
DTSTART:20240310T070000
END:DAYLIGHT
BEGIN:STANDARD
TZOFFSETFROM:-0400
TZOFFSETTO:-0500
TZNAME:EST
DTSTART:20241103T060000
END:STANDARD
BEGIN:DAYLIGHT
TZOFFSETFROM:-0500
TZOFFSETTO:-0400
TZNAME:EDT
DTSTART:20250309T070000
END:DAYLIGHT
BEGIN:STANDARD
TZOFFSETFROM:-0400
TZOFFSETTO:-0500
TZNAME:EST
DTSTART:20251102T060000
END:STANDARD
END:VTIMEZONE
BEGIN:VEVENT
DTSTART;TZID=America/New_York:20241202T190000
DTEND;TZID=America/New_York:20241202T190000
DTSTAMP:20260421T235440
CREATED:20231227T151146Z
LAST-MODIFIED:20231227T151146Z
UID:10000881-1733166000-1733166000@windsorlocksct.org
SUMMARY:Zoning Board of Appeals Regular Meeting
DESCRIPTION:
URL:https://windsorlocksct.org/event/zoning-board-of-appeals-regular-meeting-7/
CATEGORIES:Zoning Board of Appeals
END:VEVENT
BEGIN:VEVENT
DTSTART;TZID=America/New_York:20241203T180000
DTEND;TZID=America/New_York:20241203T180000
DTSTAMP:20260421T235440
CREATED:20240614T151929Z
LAST-MODIFIED:20240614T151929Z
UID:10001156-1733248800-1733248800@windsorlocksct.org
SUMMARY:Board of Selectmen Meeting
DESCRIPTION:
URL:https://windsorlocksct.org/event/board-of-selectmen-meeting-13-2/2024-12-03/
CATEGORIES:Board of Selectmen
END:VEVENT
BEGIN:VEVENT
DTSTART;TZID=America/New_York:20241204T190000
DTEND;TZID=America/New_York:20241204T190000
DTSTAMP:20260421T235440
CREATED:20231226T230827Z
LAST-MODIFIED:20231226T230827Z
UID:10000868-1733338800-1733338800@windsorlocksct.org
SUMMARY:Inland Wetlands and Watercourses Commission Meeting
DESCRIPTION:All meetungs at 7:00 PM in the Ella Grasso Conference Room
URL:https://windsorlocksct.org/event/inland-wetlands-and-watercourses-commission-meeting/2024-12-04/
CATEGORIES:IWWC
END:VEVENT
BEGIN:VEVENT
DTSTART;TZID=America/New_York:20241209T190000
DTEND;TZID=America/New_York:20241209T190000
DTSTAMP:20260421T235440
CREATED:20231121T022019Z
LAST-MODIFIED:20231121T022019Z
UID:10000530-1733770800-1733770800@windsorlocksct.org
SUMMARY:Planning and Zoning Commission Meeting
DESCRIPTION:
URL:https://windsorlocksct.org/event/planning-and-zoning-commission-meeting-12/
CATEGORIES:Planning & Zoning Commission
END:VEVENT
BEGIN:VEVENT
DTSTART;TZID=America/New_York:20241210T183000
DTEND;TZID=America/New_York:20241210T200000
DTSTAMP:20260421T235440
CREATED:20241203T204611Z
LAST-MODIFIED:20241203T204611Z
UID:10001208-1733855400-1733860800@windsorlocksct.org
SUMMARY:Board of Finance
DESCRIPTION:
URL:https://windsorlocksct.org/event/board-of-finance-37/
END:VEVENT
BEGIN:VEVENT
DTSTART;TZID=America/New_York:20241211T180000
DTEND;TZID=America/New_York:20241211T180000
DTSTAMP:20260421T235440
CREATED:20240506T202902Z
LAST-MODIFIED:20240506T202902Z
UID:10000947-1733940000-1733940000@windsorlocksct.org
SUMMARY:Police Commission Meeting
DESCRIPTION:
URL:https://windsorlocksct.org/event/police-commission-meeting-12-2-2/2024-12-11/
CATEGORIES:Police Commission
END:VEVENT
BEGIN:VEVENT
DTSTART;TZID=America/New_York:20241217T180000
DTEND;TZID=America/New_York:20241217T180000
DTSTAMP:20260421T235440
CREATED:20240614T155646Z
LAST-MODIFIED:20240614T155646Z
UID:10001157-1734458400-1734458400@windsorlocksct.org
SUMMARY:Board of Selectmen Meeting
DESCRIPTION:
URL:https://windsorlocksct.org/event/board-of-selectmen-meeting-14/
END:VEVENT
BEGIN:VEVENT
DTSTART;TZID=America/New_York:20241219T190000
DTEND;TZID=America/New_York:20241219T193000
DTSTAMP:20260421T235440
CREATED:20241212T175112Z
LAST-MODIFIED:20241212T175112Z
UID:10001221-1734634800-1734636600@windsorlocksct.org
SUMMARY:Public Hearing
DESCRIPTION:
URL:https://windsorlocksct.org/event/public-hearing-8/
CATEGORIES:Town Meeting
END:VEVENT
BEGIN:VEVENT
DTSTART;TZID=America/New_York:20241219T193000
DTEND;TZID=America/New_York:20241219T193000
DTSTAMP:20260421T235440
CREATED:20241212T175155Z
LAST-MODIFIED:20241212T175155Z
UID:10001222-1734636600-1734636600@windsorlocksct.org
SUMMARY:Town Meeting
DESCRIPTION:
URL:https://windsorlocksct.org/event/town-meeting-18/
CATEGORIES:Events
END:VEVENT
BEGIN:VEVENT
DTSTART;TZID=America/New_York:20241224T183000
DTEND;TZID=America/New_York:20241224T183000
DTSTAMP:20260421T235440
CREATED:20241215T001027Z
LAST-MODIFIED:20241215T001531Z
UID:10001283-1735065000-1735065000@windsorlocksct.org
SUMMARY:Board of Finance – Cancelled
DESCRIPTION:Cancellation Notice
URL:https://windsorlocksct.org/event/board-of-finance-cancelled-7/
CATEGORIES:Board of Finance
END:VEVENT
BEGIN:VEVENT
DTSTART;TZID=America/New_York:20241225T183000
DTEND;TZID=America/New_York:20241225T183000
DTSTAMP:20260421T235440
CREATED:20231226T163938Z
LAST-MODIFIED:20231226T163938Z
UID:10000856-1735151400-1735151400@windsorlocksct.org
SUMMARY:Economic and Industrial Development Commission CANCELLED
DESCRIPTION:
URL:https://windsorlocksct.org/event/economic-and-industrial-development-commission-cancelled-2/
END:VEVENT
BEGIN:VEVENT
DTSTART;TZID=America/New_York:20241230T180000
DTEND;TZID=America/New_York:20241230T200000
DTSTAMP:20260421T235440
CREATED:20241230T204629Z
LAST-MODIFIED:20241230T204629Z
UID:10001318-1735581600-1735588800@windsorlocksct.org
SUMMARY:WLHA-Special Meeting Cancelled
DESCRIPTION:Cancelled Meeting
URL:https://windsorlocksct.org/event/wlha-special-meeting-cancelled/
CATEGORIES:Meetings
END:VEVENT
END:VCALENDAR