BEGIN:VCALENDAR
VERSION:2.0
PRODID:-//Town of Windsor Locks, Connecticut - ECPv6.15.17.1//NONSGML v1.0//EN
CALSCALE:GREGORIAN
METHOD:PUBLISH
X-WR-CALNAME:Town of Windsor Locks, Connecticut
X-ORIGINAL-URL:https://windsorlocksct.org
X-WR-CALDESC:Events for Town of Windsor Locks, Connecticut
REFRESH-INTERVAL;VALUE=DURATION:PT1H
X-Robots-Tag:noindex
X-PUBLISHED-TTL:PT1H
BEGIN:VTIMEZONE
TZID:America/New_York
BEGIN:DAYLIGHT
TZOFFSETFROM:-0500
TZOFFSETTO:-0400
TZNAME:EDT
DTSTART:20220313T070000
END:DAYLIGHT
BEGIN:STANDARD
TZOFFSETFROM:-0400
TZOFFSETTO:-0500
TZNAME:EST
DTSTART:20221106T060000
END:STANDARD
BEGIN:DAYLIGHT
TZOFFSETFROM:-0500
TZOFFSETTO:-0400
TZNAME:EDT
DTSTART:20230312T070000
END:DAYLIGHT
BEGIN:STANDARD
TZOFFSETFROM:-0400
TZOFFSETTO:-0500
TZNAME:EST
DTSTART:20231105T060000
END:STANDARD
BEGIN:DAYLIGHT
TZOFFSETFROM:-0500
TZOFFSETTO:-0400
TZNAME:EDT
DTSTART:20240310T070000
END:DAYLIGHT
BEGIN:STANDARD
TZOFFSETFROM:-0400
TZOFFSETTO:-0500
TZNAME:EST
DTSTART:20241103T060000
END:STANDARD
END:VTIMEZONE
BEGIN:VEVENT
DTSTART;TZID=America/New_York:20230221T170000
DTEND;TZID=America/New_York:20230221T170000
DTSTAMP:20260424T060421
CREATED:20230216T225512Z
LAST-MODIFIED:20230224T171843Z
UID:10000579-1676998800-1676998800@windsorlocksct.org
SUMMARY:Board of Selectmen
DESCRIPTION:Special Meeting \nAgenda\, \nZoom Invite
URL:https://windsorlocksct.org/event/board-of-selectmen-33/
CATEGORIES:Board of Selectmen
END:VEVENT
BEGIN:VEVENT
DTSTART;TZID=America/New_York:20230221T180000
DTEND;TZID=America/New_York:20230221T180000
DTSTAMP:20260424T060421
CREATED:20230216T225625Z
LAST-MODIFIED:20230224T172601Z
UID:10000580-1677002400-1677002400@windsorlocksct.org
SUMMARY:Board of Selectmen
DESCRIPTION:Agenda\, \nZoom Invite
URL:https://windsorlocksct.org/event/board-of-selectmen-34/
CATEGORIES:Board of Selectmen
END:VEVENT
END:VCALENDAR